BEGIN:VCALENDAR
VERSION:2.0
PRODID:-//Builders &amp; Contractors Exchange - ECPv6.15.20//NONSGML v1.0//EN
CALSCALE:GREGORIAN
METHOD:PUBLISH
X-WR-CALNAME:Builders &amp; Contractors Exchange
X-ORIGINAL-URL:https://bceva.com
X-WR-CALDESC:Events for Builders &amp; Contractors Exchange
REFRESH-INTERVAL;VALUE=DURATION:PT1H
X-Robots-Tag:noindex
X-PUBLISHED-TTL:PT1H
BEGIN:VTIMEZONE
TZID:America/New_York
BEGIN:DAYLIGHT
TZOFFSETFROM:-0500
TZOFFSETTO:-0400
TZNAME:EDT
DTSTART:20240310T070000
END:DAYLIGHT
BEGIN:STANDARD
TZOFFSETFROM:-0400
TZOFFSETTO:-0500
TZNAME:EST
DTSTART:20241103T060000
END:STANDARD
BEGIN:DAYLIGHT
TZOFFSETFROM:-0500
TZOFFSETTO:-0400
TZNAME:EDT
DTSTART:20250309T070000
END:DAYLIGHT
BEGIN:STANDARD
TZOFFSETFROM:-0400
TZOFFSETTO:-0500
TZNAME:EST
DTSTART:20251102T060000
END:STANDARD
BEGIN:DAYLIGHT
TZOFFSETFROM:-0500
TZOFFSETTO:-0400
TZNAME:EDT
DTSTART:20260308T070000
END:DAYLIGHT
BEGIN:STANDARD
TZOFFSETFROM:-0400
TZOFFSETTO:-0500
TZNAME:EST
DTSTART:20261101T060000
END:STANDARD
END:VTIMEZONE
BEGIN:VEVENT
DTSTART;TZID=America/New_York:20250806T080000
DTEND;TZID=America/New_York:20250806T160000
DTSTAMP:20260419T184504
CREATED:20250117T154015Z
LAST-MODIFIED:20250117T154015Z
UID:28725-1754467200-1754496000@bceva.com
SUMMARY:24-HOUR FALL PROTECTION CERTIFICATION - Class 1 of 3
DESCRIPTION:Member – $950 per student / Non-Member – $1\,100 Per Student\n \nAugust 6\, 7 & 8\, 2025 – 8:00 AM – 4:00 PM\n \nStudents must attend all classes to complete the course \nThis 24-Hour Fall Protection Certification Training meets the requirements of the US Army Corps of Engineers Manual 385-1-1 \n• Hands-On Training and Practical Demonstrations\n• Fall Protection\n• The Nature of Fall Hazards\n• Scaffold Erection and Dismantling Competent Person\n• Walking / Working Surfaces\n• Correct Procedures for Erecting\, Using\, Dismantling\, Inspecting\, Maintaining and Storing Fall Protection Equipment\n• Application Limits\, Free Fall Distance\, Total Fall Distance and Clearance Requirements of Fall Protection Systems and Equipment\n• Warning Line / Controlled Access Zone / Safety Monitor\n• Rescue Equipment and Procedures\n• Proper Anchoring and Tie Off Techniques \nStudents will receive a certificate upon completing the class \nSeating is LIMITED – Sign up early! \nREGISTER HERE \n 
URL:https://bceva.com/event/24-hour-fall-protection-certification-class-1-of-3-2/
LOCATION:Builders & Contractors Exchange\, 1118 Azalea Garden Rd.\, Norfolk\, VA\, 23502
CATEGORIES:Certification Course,Training
ATTACH;FMTTYPE=image/jpeg:https://bceva.com/wp-content/uploads/2018/10/Fall-Protection.jpg
END:VEVENT
BEGIN:VEVENT
DTSTART;TZID=America/New_York:20250807T080000
DTEND;TZID=America/New_York:20250807T160000
DTSTAMP:20260419T184504
CREATED:20250117T154119Z
LAST-MODIFIED:20250117T154119Z
UID:28728-1754553600-1754582400@bceva.com
SUMMARY:24-HOUR FALL PROTECTION CERTIFICATION - Class 2 of 3
DESCRIPTION:Member – $950 per student / Non-Member – $1\,100 Per Student\n \nAugust 6\, 7 & 8\, 2025 – 8:00 AM – 4:00 PM\n \nStudents must attend all classes to complete the course \nThis 24-Hour Fall Protection Certification Training meets the requirements of the US Army Corps of Engineers Manual 385-1-1 \n• Hands-On Training and Practical Demonstrations\n• Fall Protection\n• The Nature of Fall Hazards\n• Scaffold Erection and Dismantling Competent Person\n• Walking / Working Surfaces\n• Correct Procedures for Erecting\, Using\, Dismantling\, Inspecting\, Maintaining and Storing Fall Protection Equipment\n• Application Limits\, Free Fall Distance\, Total Fall Distance and Clearance Requirements of Fall Protection Systems and Equipment\n• Warning Line / Controlled Access Zone / Safety Monitor\n• Rescue Equipment and Procedures\n• Proper Anchoring and Tie Off Techniques \nStudents will receive a certificate upon completing the class \nSeating is LIMITED – Sign up early! \nREGISTER HERE \n 
URL:https://bceva.com/event/24-hour-fall-protection-certification-class-2-of-3-2/
LOCATION:Builders & Contractors Exchange\, 1118 Azalea Garden Rd.\, Norfolk\, VA\, 23502
CATEGORIES:Certification Course,Training
ATTACH;FMTTYPE=image/jpeg:https://bceva.com/wp-content/uploads/2018/10/Fall-Protection.jpg
END:VEVENT
BEGIN:VEVENT
DTSTART;TZID=America/New_York:20250808T080000
DTEND;TZID=America/New_York:20250808T160000
DTSTAMP:20260419T184504
CREATED:20250117T154215Z
LAST-MODIFIED:20250117T154215Z
UID:28731-1754640000-1754668800@bceva.com
SUMMARY:24-HOUR FALL PROTECTION CERTIFICATION - Class 3 of 3
DESCRIPTION:Member – $950 per student / Non-Member – $1\,100 Per Student\n \nAugust 6\, 7 & 8\, 2025 – 8:00 AM – 4:00 PM\n \nStudents must attend all classes to complete the course \nThis 24-Hour Fall Protection Certification Training meets the requirements of the US Army Corps of Engineers Manual 385-1-1 \n• Hands-On Training and Practical Demonstrations\n• Fall Protection\n• The Nature of Fall Hazards\n• Scaffold Erection and Dismantling Competent Person\n• Walking / Working Surfaces\n• Correct Procedures for Erecting\, Using\, Dismantling\, Inspecting\, Maintaining and Storing Fall Protection Equipment\n• Application Limits\, Free Fall Distance\, Total Fall Distance and Clearance Requirements of Fall Protection Systems and Equipment\n• Warning Line / Controlled Access Zone / Safety Monitor\n• Rescue Equipment and Procedures\n• Proper Anchoring and Tie Off Techniques \nStudents will receive a certificate upon completing the class \nSeating is LIMITED – Sign up early! \nREGISTER HERE \n 
URL:https://bceva.com/event/24-hour-fall-protection-certification-class-3-of-3-2/
LOCATION:Builders & Contractors Exchange\, 1118 Azalea Garden Rd.\, Norfolk\, VA\, 23502
CATEGORIES:Certification Course,Training
ATTACH;FMTTYPE=image/jpeg:https://bceva.com/wp-content/uploads/2018/10/Fall-Protection.jpg
END:VEVENT
BEGIN:VEVENT
DTSTART;TZID=America/New_York:20250813T080000
DTEND;TZID=America/New_York:20250813T130000
DTSTAMP:20260419T184504
CREATED:20250117T155128Z
LAST-MODIFIED:20250117T155128Z
UID:28734-1755072000-1755090000@bceva.com
SUMMARY:CPR & FIRST AID
DESCRIPTION:Member – $100 per student / Non-Member – $150 per student \n• Adult CPR/AED and First Aid\n• American Heart Association certification valid for two years\n• Training course is fully OSHA compliant \nCPR & First Aid Class includes a two year certification from the American Heart Association \nSeating is LIMITED – Sign up early \nREGSTER HERE
URL:https://bceva.com/event/cpr-first-aid-6/
LOCATION:Builders & Contractors Exchange\, 1118 Azalea Garden Rd.\, Norfolk\, VA\, 23502
CATEGORIES:Certification Course,Training
ATTACH;FMTTYPE=image/jpeg:https://bceva.com/wp-content/uploads/2018/02/first-aid-e1544114779684.jpg
END:VEVENT
BEGIN:VEVENT
DTSTART;TZID=America/New_York:20250821T080000
DTEND;TZID=America/New_York:20250821T160000
DTSTAMP:20260419T184504
CREATED:20250117T155948Z
LAST-MODIFIED:20250117T155948Z
UID:28740-1755763200-1755792000@bceva.com
SUMMARY:OSHA 30 HOUR - Class 1 of 4
DESCRIPTION:Member – $500 per student / Non-Member – $700 per Student \nAugust 21\, 22 and August 28\, 29\, 2025 \nYou must attend all four (4) classes to complete the course. \nThis course is intended to provide construction workers general awareness on recognizing and preventing hazards on a construction site. The training covers a variety of construction safety and health topics which a worker may encounter at a construction site. \nIdeal for: Safety Directors\, Foremen and Field Supervisors \nStudents will receive a certification card upon completion of the course. \nSeating is LIMITED – Sign up early \nREGISTER HERE
URL:https://bceva.com/event/osha-30-hour-class-1-of-4-3/
LOCATION:Builders & Contractors Exchange\, 1118 Azalea Garden Rd.\, Norfolk\, VA\, 23502
CATEGORIES:Certification Course,Training
ATTACH;FMTTYPE=image/png:https://bceva.com/wp-content/uploads/2019/08/OSHA-logo.png
END:VEVENT
BEGIN:VEVENT
DTSTART;TZID=America/New_York:20250822T080000
DTEND;TZID=America/New_York:20250822T160000
DTSTAMP:20260419T184504
CREATED:20250117T160046Z
LAST-MODIFIED:20250117T160046Z
UID:28743-1755849600-1755878400@bceva.com
SUMMARY:OSHA 30 HOUR - Class 2 of 4
DESCRIPTION:Member – $500 per student / Non-Member – $700 per Student \nAugust 21\, 22 and August 28\, 29\, 2025 \nYou must attend all four (4) classes to complete the course. \nThis course is intended to provide construction workers general awareness on recognizing and preventing hazards on a construction site. The training covers a variety of construction safety and health topics which a worker may encounter at a construction site. \nIdeal for: Safety Directors\, Foremen and Field Supervisors \nStudents will receive a certification card upon completion of the course. \nSeating is LIMITED – Sign up early \nREGISTER HERE
URL:https://bceva.com/event/osha-30-hour-class-2-of-4-3/
LOCATION:Builders & Contractors Exchange\, 1118 Azalea Garden Rd.\, Norfolk\, VA\, 23502
CATEGORIES:Certification Course,Training
ATTACH;FMTTYPE=image/png:https://bceva.com/wp-content/uploads/2019/08/OSHA-logo.png
END:VEVENT
BEGIN:VEVENT
DTSTART;TZID=America/New_York:20250828T080000
DTEND;TZID=America/New_York:20250828T160000
DTSTAMP:20260419T184504
CREATED:20250117T160149Z
LAST-MODIFIED:20250117T160149Z
UID:28746-1756368000-1756396800@bceva.com
SUMMARY:OSHA 30 HOUR - Class 3 of 4
DESCRIPTION:Member – $500 per student / Non-Member – $700 per Student \nAugust 21\, 22 and August 28\, 29\, 2025 \nYou must attend all four (4) classes to complete the course. \nThis course is intended to provide construction workers general awareness on recognizing and preventing hazards on a construction site. The training covers a variety of construction safety and health topics which a worker may encounter at a construction site. \nIdeal for: Safety Directors\, Foremen and Field Supervisors \nStudents will receive a certification card upon completion of the course. \nSeating is LIMITED – Sign up early \nREGISTER HERE
URL:https://bceva.com/event/osha-30-hour-class-3-of-4-3/
LOCATION:Builders & Contractors Exchange\, 1118 Azalea Garden Rd.\, Norfolk\, VA\, 23502
CATEGORIES:Certification Course,Training
ATTACH;FMTTYPE=image/png:https://bceva.com/wp-content/uploads/2019/08/OSHA-logo.png
END:VEVENT
BEGIN:VEVENT
DTSTART;TZID=America/New_York:20250829T080000
DTEND;TZID=America/New_York:20250829T160000
DTSTAMP:20260419T184504
CREATED:20250117T160301Z
LAST-MODIFIED:20250117T160301Z
UID:28749-1756454400-1756483200@bceva.com
SUMMARY:OSHA 30 HOUR - Class 4 of 4
DESCRIPTION:Member – $500 per student / Non-Member – $700 per Student \nAugust 21\, 22 and August 28\, 29\, 2025 \nYou must attend all four (4) classes to complete the course. \nThis course is intended to provide construction workers general awareness on recognizing and preventing hazards on a construction site. The training covers a variety of construction safety and health topics which a worker may encounter at a construction site. \nIdeal for: Safety Directors\, Foremen and Field Supervisors \nStudents will receive a certification card upon completion of the course. \nSeating is LIMITED – Sign up early \nREGISTER HERE
URL:https://bceva.com/event/osha-30-hour-class-4-of-4-3/
LOCATION:Builders & Contractors Exchange\, 1118 Azalea Garden Rd.\, Norfolk\, VA\, 23502
CATEGORIES:Certification Course,Training
ATTACH;FMTTYPE=image/png:https://bceva.com/wp-content/uploads/2019/08/OSHA-logo.png
END:VEVENT
END:VCALENDAR