BEGIN:VCALENDAR
VERSION:2.0
PRODID:-//Builders &amp; Contractors Exchange - ECPv6.15.20//NONSGML v1.0//EN
CALSCALE:GREGORIAN
METHOD:PUBLISH
X-WR-CALNAME:Builders &amp; Contractors Exchange
X-ORIGINAL-URL:https://bceva.com
X-WR-CALDESC:Events for Builders &amp; Contractors Exchange
REFRESH-INTERVAL;VALUE=DURATION:PT1H
X-Robots-Tag:noindex
X-PUBLISHED-TTL:PT1H
BEGIN:VTIMEZONE
TZID:America/New_York
BEGIN:DAYLIGHT
TZOFFSETFROM:-0500
TZOFFSETTO:-0400
TZNAME:EDT
DTSTART:20230312T070000
END:DAYLIGHT
BEGIN:STANDARD
TZOFFSETFROM:-0400
TZOFFSETTO:-0500
TZNAME:EST
DTSTART:20231105T060000
END:STANDARD
BEGIN:DAYLIGHT
TZOFFSETFROM:-0500
TZOFFSETTO:-0400
TZNAME:EDT
DTSTART:20240310T070000
END:DAYLIGHT
BEGIN:STANDARD
TZOFFSETFROM:-0400
TZOFFSETTO:-0500
TZNAME:EST
DTSTART:20241103T060000
END:STANDARD
BEGIN:DAYLIGHT
TZOFFSETFROM:-0500
TZOFFSETTO:-0400
TZNAME:EDT
DTSTART:20250309T070000
END:DAYLIGHT
BEGIN:STANDARD
TZOFFSETFROM:-0400
TZOFFSETTO:-0500
TZNAME:EST
DTSTART:20251102T060000
END:STANDARD
BEGIN:DAYLIGHT
TZOFFSETFROM:-0500
TZOFFSETTO:-0400
TZNAME:EDT
DTSTART:20260308T070000
END:DAYLIGHT
BEGIN:STANDARD
TZOFFSETFROM:-0400
TZOFFSETTO:-0500
TZNAME:EST
DTSTART:20261101T060000
END:STANDARD
END:VTIMEZONE
BEGIN:VEVENT
DTSTART;TZID=America/New_York:20250911T110000
DTEND;TZID=America/New_York:20250911T190000
DTSTAMP:20260419T135600
CREATED:20250807T140458Z
LAST-MODIFIED:20260408T131220Z
UID:34133-1757588400-1757617200@bceva.com
SUMMARY:BCEVA 25th ANNUAL SCHOLARSHIP GOLF OUTING
DESCRIPTION:Join us on September 11\, 2025 at the beautiful Riverfront Golf Club in Suffolk for a friendly competition to support our scholarship!\nGolfers will enjoy lunch and dinner and we will be awarding several prizes!\nTeams and Sponsors can sign up by REGISTERING HERE
URL:https://bceva.com/event/bceva-25th-annual-scholarship-golf-outing/
LOCATION:Riverfront Golf Club\, 5200 River Club Drive\, Suffolk\, VA\, 23435\, United States
CATEGORIES:Networking,Scholarship,Social
ATTACH;FMTTYPE=image/png:https://bceva.com/wp-content/uploads/2023/08/Riverfront-GCsmall.png
END:VEVENT
BEGIN:VEVENT
DTSTART;TZID=America/New_York:20240912T110000
DTEND;TZID=America/New_York:20240912T190000
DTSTAMP:20260419T135600
CREATED:20240808T193222Z
LAST-MODIFIED:20240808T193732Z
UID:23615-1726138800-1726167600@bceva.com
SUMMARY:BCEVA 24th ANNUAL SCHOLARSHIP GOLF OUTING
DESCRIPTION:Join us on September 12\, 2024 at the beautiful Riverfront Golf Club in Suffolk for a friendly competition to support our scholarship!\nGolfers will enjoy lunch and dinner and we will be awarding several prizes!\nTeams and Sponsors can sign up by REGISTERING HERE
URL:https://bceva.com/event/bceva-24th-annual-scholarship-golf-outing/
LOCATION:Riverfront Golf Club\, 5200 River Club Drive\, Suffolk\, VA\, 23435\, United States
CATEGORIES:Networking,Scholarship,Social
ATTACH;FMTTYPE=image/png:https://bceva.com/wp-content/uploads/2023/08/Riverfront-GCsmall.png
END:VEVENT
END:VCALENDAR