BEGIN:VCALENDAR
VERSION:2.0
PRODID:-//Builders &amp; Contractors Exchange - ECPv6.15.20//NONSGML v1.0//EN
CALSCALE:GREGORIAN
METHOD:PUBLISH
X-WR-CALNAME:Builders &amp; Contractors Exchange
X-ORIGINAL-URL:https://bceva.com
X-WR-CALDESC:Events for Builders &amp; Contractors Exchange
REFRESH-INTERVAL;VALUE=DURATION:PT1H
X-Robots-Tag:noindex
X-PUBLISHED-TTL:PT1H
BEGIN:VTIMEZONE
TZID:America/New_York
BEGIN:DAYLIGHT
TZOFFSETFROM:-0500
TZOFFSETTO:-0400
TZNAME:EDT
DTSTART:20240310T070000
END:DAYLIGHT
BEGIN:STANDARD
TZOFFSETFROM:-0400
TZOFFSETTO:-0500
TZNAME:EST
DTSTART:20241103T060000
END:STANDARD
BEGIN:DAYLIGHT
TZOFFSETFROM:-0500
TZOFFSETTO:-0400
TZNAME:EDT
DTSTART:20250309T070000
END:DAYLIGHT
BEGIN:STANDARD
TZOFFSETFROM:-0400
TZOFFSETTO:-0500
TZNAME:EST
DTSTART:20251102T060000
END:STANDARD
BEGIN:DAYLIGHT
TZOFFSETFROM:-0500
TZOFFSETTO:-0400
TZNAME:EDT
DTSTART:20260308T070000
END:DAYLIGHT
BEGIN:STANDARD
TZOFFSETFROM:-0400
TZOFFSETTO:-0500
TZNAME:EST
DTSTART:20261101T060000
END:STANDARD
END:VTIMEZONE
BEGIN:VEVENT
DTSTART;TZID=America/New_York:20250403T170000
DTEND;TZID=America/New_York:20250403T190000
DTSTAMP:20260420T070636
CREATED:20250313T162304Z
LAST-MODIFIED:20260408T131154Z
UID:30338-1743699600-1743706800@bceva.com
SUMMARY:BCEVA MEMBERS SOCIAL - Ballyhoos Virginia Beach - BCEVA Members Only
DESCRIPTION:Join us at Ballyhoos in Virginia Beach for Food\, Drinks and Fellowship!\n2865 Lynnhaven Dr.\, Ste. D3\, Virginia Beach\, VA\n$40 per person\nEnjoy Heavy Appetizers and Drinks while you Network with your fellow Exchange members!\nRegister Here – REGISTRATION IS CLOSED  PLEASE JOIN US FOR OUR MAY SOCIAL! (Details Coming Soon)\nSign up no later than March 27th\, Noon
URL:https://bceva.com/event/bceva-members-social-ballyhoos-virginia-beach-bceva-members-only/
LOCATION:Ballyhoos\, 2865 Lynnhaven Dr.\, Virginia Beach\, VA\, 23451
CATEGORIES:Networking,Social
ATTACH;FMTTYPE=image/png:https://bceva.com/wp-content/uploads/2025/03/Ballyhoos-Logo.png
END:VEVENT
END:VCALENDAR