BEGIN:VCALENDAR
VERSION:2.0
PRODID:-//Builders &amp; Contractors Exchange - ECPv6.15.20//NONSGML v1.0//EN
CALSCALE:GREGORIAN
METHOD:PUBLISH
X-ORIGINAL-URL:https://bceva.com
X-WR-CALDESC:Events for Builders &amp; Contractors Exchange
REFRESH-INTERVAL;VALUE=DURATION:PT1H
X-Robots-Tag:noindex
X-PUBLISHED-TTL:PT1H
BEGIN:VTIMEZONE
TZID:America/New_York
BEGIN:DAYLIGHT
TZOFFSETFROM:-0500
TZOFFSETTO:-0400
TZNAME:EDT
DTSTART:20250309T070000
END:DAYLIGHT
BEGIN:STANDARD
TZOFFSETFROM:-0400
TZOFFSETTO:-0500
TZNAME:EST
DTSTART:20251102T060000
END:STANDARD
BEGIN:DAYLIGHT
TZOFFSETFROM:-0500
TZOFFSETTO:-0400
TZNAME:EDT
DTSTART:20260308T070000
END:DAYLIGHT
BEGIN:STANDARD
TZOFFSETFROM:-0400
TZOFFSETTO:-0500
TZNAME:EST
DTSTART:20261101T060000
END:STANDARD
BEGIN:DAYLIGHT
TZOFFSETFROM:-0500
TZOFFSETTO:-0400
TZNAME:EDT
DTSTART:20270314T070000
END:DAYLIGHT
BEGIN:STANDARD
TZOFFSETFROM:-0400
TZOFFSETTO:-0500
TZNAME:EST
DTSTART:20271107T060000
END:STANDARD
END:VTIMEZONE
BEGIN:VEVENT
DTSTART;TZID=America/New_York:20260221T180000
DTEND;TZID=America/New_York:20260221T230000
DTSTAMP:20260419T120914
CREATED:20260119T173939Z
LAST-MODIFIED:20260218T140103Z
UID:37650-1771696800-1771714800@bceva.com
SUMMARY:2026 ANNUAL DINNER - BCEVA Members and Their Guests Only
DESCRIPTION:We plan to make the evening a night to remember at the Hilton Virginia Beach Oceanfront!\nBeginning at 6:00 pm we will have a social hour with cocktails followed by dinner. Have fun throughout the evening playing casino games; Black Jack\, Craps\, Roulette. There will be music and dancing as well. This is a semi-formal event.  \nOur dinner will begin with a salad and assorted warm dinner rolls. Our choice of entrées are: Bronzed Salmon or Roasted Chicken. Yes\, there will be dessert! \nGuests will have the option to use Valet Parking or Self-Parking at the 31st Street Garage. \nThis event is for BCEVA Members and their guests. \nClick Here for special room rates and reservations \nClick Here to REGISTER for the event
URL:https://bceva.com/event/2026-annual-dinner-bceva-members-and-their-guests-only/
LOCATION:Hilton Virginia Beach Oceanfront\, 3001 Atlantic Ave.\, Virginia Beach\, VA\, United States
CATEGORIES:Social
ATTACH;FMTTYPE=image/png:https://bceva.com/wp-content/uploads/2026/01/casino-night-2509578715.png
END:VEVENT
END:VCALENDAR