BEGIN:VCALENDAR
VERSION:2.0
PRODID:-//Builders &amp; Contractors Exchange - ECPv6.15.20//NONSGML v1.0//EN
CALSCALE:GREGORIAN
METHOD:PUBLISH
X-WR-CALNAME:Builders &amp; Contractors Exchange
X-ORIGINAL-URL:https://bceva.com
X-WR-CALDESC:Events for Builders &amp; Contractors Exchange
REFRESH-INTERVAL;VALUE=DURATION:PT1H
X-Robots-Tag:noindex
X-PUBLISHED-TTL:PT1H
BEGIN:VTIMEZONE
TZID:America/New_York
BEGIN:DAYLIGHT
TZOFFSETFROM:-0500
TZOFFSETTO:-0400
TZNAME:EDT
DTSTART:20240310T070000
END:DAYLIGHT
BEGIN:STANDARD
TZOFFSETFROM:-0400
TZOFFSETTO:-0500
TZNAME:EST
DTSTART:20241103T060000
END:STANDARD
BEGIN:DAYLIGHT
TZOFFSETFROM:-0500
TZOFFSETTO:-0400
TZNAME:EDT
DTSTART:20250309T070000
END:DAYLIGHT
BEGIN:STANDARD
TZOFFSETFROM:-0400
TZOFFSETTO:-0500
TZNAME:EST
DTSTART:20251102T060000
END:STANDARD
BEGIN:DAYLIGHT
TZOFFSETFROM:-0500
TZOFFSETTO:-0400
TZNAME:EDT
DTSTART:20260308T070000
END:DAYLIGHT
BEGIN:STANDARD
TZOFFSETFROM:-0400
TZOFFSETTO:-0500
TZNAME:EST
DTSTART:20261101T060000
END:STANDARD
END:VTIMEZONE
BEGIN:VEVENT
DTSTART;TZID=America/New_York:20251023T170000
DTEND;TZID=America/New_York:20251023T190000
DTSTAMP:20260419T220606
CREATED:20250926T161004Z
LAST-MODIFIED:20251020T144020Z
UID:35257-1761238800-1761246000@bceva.com
SUMMARY:BCE Members Social - Rockafeller's Restaurant
DESCRIPTION:October 23\, 2025  ~  5:00 PM to 7:00 PM \n$65.00 per person  –  Includes two drink tickets and heavy appetizers \nRockafeller’s Restaurant at Rudee Inlet\n308 Mediterranean Ave.\, Virginia Beach\, VA 23451 \nCome meet your fellow Builders Exchange members! We will have heavy appetizers and a variety of beverages for you to enjoy while you network. Plus the view is really nice! \nREGISTER HERE
URL:https://bceva.com/event/bce-members-social-rockafellers-restaurant/
LOCATION:Rockafeller’s\, 308 Mediterranean Ave.\, Virginia Beach\, VA\, United States
CATEGORIES:Networking,Social
ATTACH;FMTTYPE=image/png:https://bceva.com/wp-content/uploads/2025/09/rockafallers-logo.png
END:VEVENT
END:VCALENDAR