BEGIN:VCALENDAR
VERSION:2.0
PRODID:-//Builders &amp; Contractors Exchange - ECPv6.15.20//NONSGML v1.0//EN
CALSCALE:GREGORIAN
METHOD:PUBLISH
X-WR-CALNAME:Builders &amp; Contractors Exchange
X-ORIGINAL-URL:https://bceva.com
X-WR-CALDESC:Events for Builders &amp; Contractors Exchange
REFRESH-INTERVAL;VALUE=DURATION:PT1H
X-Robots-Tag:noindex
X-PUBLISHED-TTL:PT1H
BEGIN:VTIMEZONE
TZID:America/New_York
BEGIN:DAYLIGHT
TZOFFSETFROM:-0500
TZOFFSETTO:-0400
TZNAME:EDT
DTSTART:20250309T070000
END:DAYLIGHT
BEGIN:STANDARD
TZOFFSETFROM:-0400
TZOFFSETTO:-0500
TZNAME:EST
DTSTART:20251102T060000
END:STANDARD
BEGIN:DAYLIGHT
TZOFFSETFROM:-0500
TZOFFSETTO:-0400
TZNAME:EDT
DTSTART:20260308T070000
END:DAYLIGHT
BEGIN:STANDARD
TZOFFSETFROM:-0400
TZOFFSETTO:-0500
TZNAME:EST
DTSTART:20261101T060000
END:STANDARD
BEGIN:DAYLIGHT
TZOFFSETFROM:-0500
TZOFFSETTO:-0400
TZNAME:EDT
DTSTART:20270314T070000
END:DAYLIGHT
BEGIN:STANDARD
TZOFFSETFROM:-0400
TZOFFSETTO:-0500
TZNAME:EST
DTSTART:20271107T060000
END:STANDARD
END:VTIMEZONE
BEGIN:VEVENT
DTSTART;TZID=America/New_York:20260507T170000
DTEND;TZID=America/New_York:20260507T190000
DTSTAMP:20260419T114710
CREATED:20240911T191752Z
LAST-MODIFIED:20260409T173732Z
UID:24399-1778173200-1778180400@bceva.com
SUMMARY:BCEVA MEMBERS SOCIAL - New Realm Suffolk - BCEVA Members Only
DESCRIPTION:Join us at New Realm Brewing Company in Suffolk for Food\, Drinks and Fellowship!\n5941 Harbour View Blvd.\, Suffolk\, VA 23435\n$60 per person\nEnjoy Heavy Appetizers and Drinks while you Network with your fellow Exchange members!\nRegister Here\nSign up no later than Noon on April 9th
URL:https://bceva.com/event/october-members-social-rockafellers-virginia-beach-bceva-members-only-2/
LOCATION:New Realm Brewing Company\, 5941 Harbour View Blvd.\, Suffolk\, 23435\, United States
CATEGORIES:Networking,Social
ATTACH;FMTTYPE=image/jpeg:https://bceva.com/wp-content/uploads/2024/09/NR-Logo.jpg
END:VEVENT
END:VCALENDAR