BEGIN:VCALENDAR
VERSION:2.0
PRODID:-//Builders &amp; Contractors Exchange - ECPv6.15.20//NONSGML v1.0//EN
CALSCALE:GREGORIAN
METHOD:PUBLISH
X-WR-CALNAME:Builders &amp; Contractors Exchange
X-ORIGINAL-URL:https://bceva.com
X-WR-CALDESC:Events for Builders &amp; Contractors Exchange
REFRESH-INTERVAL;VALUE=DURATION:PT1H
X-Robots-Tag:noindex
X-PUBLISHED-TTL:PT1H
BEGIN:VTIMEZONE
TZID:America/New_York
BEGIN:DAYLIGHT
TZOFFSETFROM:-0500
TZOFFSETTO:-0400
TZNAME:EDT
DTSTART:20220313T070000
END:DAYLIGHT
BEGIN:STANDARD
TZOFFSETFROM:-0400
TZOFFSETTO:-0500
TZNAME:EST
DTSTART:20221106T060000
END:STANDARD
BEGIN:DAYLIGHT
TZOFFSETFROM:-0500
TZOFFSETTO:-0400
TZNAME:EDT
DTSTART:20230312T070000
END:DAYLIGHT
BEGIN:STANDARD
TZOFFSETFROM:-0400
TZOFFSETTO:-0500
TZNAME:EST
DTSTART:20231105T060000
END:STANDARD
BEGIN:DAYLIGHT
TZOFFSETFROM:-0500
TZOFFSETTO:-0400
TZNAME:EDT
DTSTART:20240310T070000
END:DAYLIGHT
BEGIN:STANDARD
TZOFFSETFROM:-0400
TZOFFSETTO:-0500
TZNAME:EST
DTSTART:20241103T060000
END:STANDARD
BEGIN:DAYLIGHT
TZOFFSETFROM:-0500
TZOFFSETTO:-0400
TZNAME:EDT
DTSTART:20250309T070000
END:DAYLIGHT
BEGIN:STANDARD
TZOFFSETFROM:-0400
TZOFFSETTO:-0500
TZNAME:EST
DTSTART:20251102T060000
END:STANDARD
END:VTIMEZONE
BEGIN:VEVENT
DTSTART;TZID=America/New_York:20240823T170000
DTEND;TZID=America/New_York:20240823T190000
DTSTAMP:20260419T135558
CREATED:20240710T180927Z
LAST-MODIFIED:20241010T132218Z
UID:23026-1724432400-1724439600@bceva.com
SUMMARY:BCE MEMBERS SOCIAL - TIDES BASEBALL AT HARBOR PARK
DESCRIPTION:$38 adult Ticket  /  $36 Child Ticket (3-9; 2 and under are free) \nJoin us August 23rd at the Bold Rock Party Deck\, Harbor Park Stadium / Social 5:00 pm – 7:00 pm / game time 6:35 pm \nYour ticket includes Entry to the Party Deck and a ticket to sit in the stands. \nYou can watch the game from the Party Deck or from your stadium seat.\nPLEASE SEE OUR REGISTRATION FLYER FOR ALL THE DETAILS!\nREGISTER HERE
URL:https://bceva.com/event/bce-members-social-tides-baseball-at-harbor-park/
LOCATION:Harbor Park\, 150 Park Ave.\, Norfolk\, VA\, 23510
CATEGORIES:Networking,Social
ATTACH;FMTTYPE=image/png:https://bceva.com/wp-content/uploads/2024/07/Harbor_Park_yot22p6a_3g7unyz7.png
END:VEVENT
BEGIN:VEVENT
DTSTART;TZID=America/New_York:20240416T170000
DTEND;TZID=America/New_York:20240416T190000
DTSTAMP:20260419T135558
CREATED:20240325T180855Z
LAST-MODIFIED:20240325T181237Z
UID:21146-1713286800-1713294000@bceva.com
SUMMARY:BCE MEMBERS SOCIAL AT HARPOON LARRY'S
DESCRIPTION:$50 per person – BCE Members Only \nJoin us April 16th from 5:00 to 7:00 PM for fellowship and fun! \nWe will have heavy appetizers and drinks for you to enjoy \nREGISTER HERE
URL:https://bceva.com/event/bce-members-social-at-harpoon-larrys/
LOCATION:Harpoon Larry’s\, 621 J Clyde Morris Blvd.\, Newport News\, VA\, 23601
CATEGORIES:Networking,Social
ATTACH;FMTTYPE=image/png:https://bceva.com/wp-content/uploads/2024/03/Harpoon-Larrys-2024.png
END:VEVENT
BEGIN:VEVENT
DTSTART;TZID=America/New_York:20240309T180000
DTEND;TZID=America/New_York:20240309T233000
DTSTAMP:20260419T135558
CREATED:20240122T152110Z
LAST-MODIFIED:20240122T152952Z
UID:19596-1710007200-1710027000@bceva.com
SUMMARY:2024 Annual Dinner - BCEVA Members and Their Guests Only
DESCRIPTION:We plan to make the evening a night to remember at the Hilton Virginia Beach Oceanfront! \nThere will be a hosted cocktail time from 6:00 P.M. until 7:00 P.M. followed by dinner and Disco Dancing provided by Astro DJ. \nOur dinner will begin with a salad and assorted warm dinner rolls. Our choice of entrées are: Bronzed Salmon or Roasted Chicken Breast. Yes\, there will be dessert! \nThis is a semi-Formal event with a Disco theme. Disco attire is optional. \nGuests will have the option to use Valet Parking or Self-Parking at the 31st Street Garage. \nThis event is for BCEVA Members and their guests. \nClick Here for special room rates and reservations \nClick Here to REGISTER for the event
URL:https://bceva.com/event/2024-annual-dinner-bceva-members-and-their-guests-only/
LOCATION:Hilton Virginia Beach Oceanfront\, 3001 Atlantic Ave.\, Virginia Beach\, VA\, United States
CATEGORIES:Social
ATTACH;FMTTYPE=image/jpeg:https://bceva.com/wp-content/uploads/2024/01/party-people-on-disco-lights-background-vector-1475618045.jpg
END:VEVENT
BEGIN:VEVENT
DTSTART;TZID=America/New_York:20231019T170000
DTEND;TZID=America/New_York:20231019T190000
DTSTAMP:20260419T135558
CREATED:20230920T202236Z
LAST-MODIFIED:20241212T153004Z
UID:17204-1697734800-1697742000@bceva.com
SUMMARY:OCTOBER MEMBERS SOCIAL - Rockafeller's Virginia Beach - BCEVA Members Only
DESCRIPTION:Join us at Rockafeller’s in Virginia Beach \nFood – Drinks – Fellowship \n$60 per person \nRegister Here
URL:https://bceva.com/event/october-members-social-rockafellers-virginia-beach-bceva-members-only/
LOCATION:Rockafeller’s\, 308 Mediterranean Ave.\, Virginia Beach\, VA\, United States
CATEGORIES:Networking,Social
ATTACH;FMTTYPE=image/png:https://bceva.com/wp-content/uploads/2023/09/rockafallers-logo.png
END:VEVENT
END:VCALENDAR