BEGIN:VCALENDAR
VERSION:2.0
PRODID:-//Builders &amp; Contractors Exchange - ECPv6.15.20//NONSGML v1.0//EN
CALSCALE:GREGORIAN
METHOD:PUBLISH
X-WR-CALNAME:Builders &amp; Contractors Exchange
X-ORIGINAL-URL:https://bceva.com
X-WR-CALDESC:Events for Builders &amp; Contractors Exchange
REFRESH-INTERVAL;VALUE=DURATION:PT1H
X-Robots-Tag:noindex
X-PUBLISHED-TTL:PT1H
BEGIN:VTIMEZONE
TZID:America/New_York
BEGIN:DAYLIGHT
TZOFFSETFROM:-0500
TZOFFSETTO:-0400
TZNAME:EDT
DTSTART:20240310T070000
END:DAYLIGHT
BEGIN:STANDARD
TZOFFSETFROM:-0400
TZOFFSETTO:-0500
TZNAME:EST
DTSTART:20241103T060000
END:STANDARD
BEGIN:DAYLIGHT
TZOFFSETFROM:-0500
TZOFFSETTO:-0400
TZNAME:EDT
DTSTART:20250309T070000
END:DAYLIGHT
BEGIN:STANDARD
TZOFFSETFROM:-0400
TZOFFSETTO:-0500
TZNAME:EST
DTSTART:20251102T060000
END:STANDARD
BEGIN:DAYLIGHT
TZOFFSETFROM:-0500
TZOFFSETTO:-0400
TZNAME:EDT
DTSTART:20260308T070000
END:DAYLIGHT
BEGIN:STANDARD
TZOFFSETFROM:-0400
TZOFFSETTO:-0500
TZNAME:EST
DTSTART:20261101T060000
END:STANDARD
END:VTIMEZONE
BEGIN:VEVENT
DTSTART;TZID=America/New_York:20251110T080000
DTEND;TZID=America/New_York:20251110T160000
DTSTAMP:20260419T153309
CREATED:20250127T145309Z
LAST-MODIFIED:20251106T145330Z
UID:29007-1762761600-1762790400@bceva.com
SUMMARY:FULL - 24-HOUR FALL PROTECTION CERTIFICATION - Class 1 of 3
DESCRIPTION:THIS CLASS IS FULL – More Classes will be available in 2026 \nMember – $950 per student / Non-Member – $1\,100 Per Student\n \nNovember 10\, 11 & 12\, 2025 – 8:00 AM – 4:00 PM\n \nIMPORTANT NOTICE – STUDENTS MUST BRING THEIR PERSONAL SAFETY HARNESS ON THE FIRST DAY OF CLASS \nStudents must attend all classes to complete the course \nThis 24-Hour Fall Protection Certification Training meets the requirements of the US Army Corps of Engineers Manual 385-1-1 \n• Hands-On Training and Practical Demonstrations\n• Fall Protection\n• The Nature of Fall Hazards\n• Scaffold Erection and Dismantling Competent Person\n• Walking / Working Surfaces\n• Correct Procedures for Erecting\, Using\, Dismantling\, Inspecting\, Maintaining and Storing Fall Protection Equipment\n• Application Limits\, Free Fall Distance\, Total Fall Distance and Clearance Requirements of Fall Protection Systems and Equipment\n• Warning Line / Controlled Access Zone / Safety Monitor\n• Rescue Equipment and Procedures\n• Proper Anchoring and Tie Off Techniques \nStudents will receive a certificate upon completing the class \nSeating is LIMITED – Sign up early! \nREGISTER HERE \n 
URL:https://bceva.com/event/24-hour-fall-protection-certification-class-1-of-3-3/
LOCATION:Builders & Contractors Exchange\, 1118 Azalea Garden Rd.\, Norfolk\, VA\, 23502
CATEGORIES:Certification Course,Training
ATTACH;FMTTYPE=image/jpeg:https://bceva.com/wp-content/uploads/2018/10/Fall-Protection.jpg
END:VEVENT
BEGIN:VEVENT
DTSTART;TZID=America/New_York:20251111T080000
DTEND;TZID=America/New_York:20251111T160000
DTSTAMP:20260419T153309
CREATED:20250127T145358Z
LAST-MODIFIED:20251106T145438Z
UID:29015-1762848000-1762876800@bceva.com
SUMMARY:FULL - 24-HOUR FALL PROTECTION CERTIFICATION - Class 2 of 3
DESCRIPTION:Member – $950 per student / Non-Member – $1\,100 Per Student\n \nNovember 10\, 11 & 12\, 2025 – 8:00 AM – 4:00 PM\n \nStudents must attend all classes to complete the course \nIMPORTANT NOTICE – STUDENTS MUST BRING THEIR PERSONAL SAFETY HARNESS ON THE FIRST DAY OF CLASS \nThis 24-Hour Fall Protection Certification Training meets the requirements of the US Army Corps of Engineers Manual 385-1-1 \n• Hands-On Training and Practical Demonstrations\n• Fall Protection\n• The Nature of Fall Hazards\n• Scaffold Erection and Dismantling Competent Person\n• Walking / Working Surfaces\n• Correct Procedures for Erecting\, Using\, Dismantling\, Inspecting\, Maintaining and Storing Fall Protection Equipment\n• Application Limits\, Free Fall Distance\, Total Fall Distance and Clearance Requirements of Fall Protection Systems and Equipment\n• Warning Line / Controlled Access Zone / Safety Monitor\n• Rescue Equipment and Procedures\n• Proper Anchoring and Tie Off Techniques \nStudents will receive a certificate upon completing the class \nSeating is LIMITED – Sign up early! \nREGISTER HERE \n 
URL:https://bceva.com/event/24-hour-fall-protection-certification-class-2-of-3-3/
LOCATION:Builders & Contractors Exchange\, 1118 Azalea Garden Rd.\, Norfolk\, VA\, 23502
CATEGORIES:Certification Course,Training
ATTACH;FMTTYPE=image/jpeg:https://bceva.com/wp-content/uploads/2018/10/Fall-Protection.jpg
END:VEVENT
BEGIN:VEVENT
DTSTART;TZID=America/New_York:20251112T080000
DTEND;TZID=America/New_York:20251112T160000
DTSTAMP:20260419T153309
CREATED:20250127T145457Z
LAST-MODIFIED:20251106T145532Z
UID:29018-1762934400-1762963200@bceva.com
SUMMARY:FULL - 24-HOUR FALL PROTECTION CERTIFICATION - Class 3 of 3
DESCRIPTION:Member – $950 per student / Non-Member – $1\,100 Per Student\n \nNovember 10\, 11 & 12\, 2025 – 8:00 AM – 4:00 PM\n \nStudents must attend all classes to complete the course \nIMPORTANT NOTICE – STUDENTS MUST BRING THEIR PERSONAL SAFETY HARNESS ON THE FIRST DAY OF CLASS \nThis 24-Hour Fall Protection Certification Training meets the requirements of the US Army Corps of Engineers Manual 385-1-1 \n• Hands-On Training and Practical Demonstrations\n• Fall Protection\n• The Nature of Fall Hazards\n• Scaffold Erection and Dismantling Competent Person\n• Walking / Working Surfaces\n• Correct Procedures for Erecting\, Using\, Dismantling\, Inspecting\, Maintaining and Storing Fall Protection Equipment\n• Application Limits\, Free Fall Distance\, Total Fall Distance and Clearance Requirements of Fall Protection Systems and Equipment\n• Warning Line / Controlled Access Zone / Safety Monitor\n• Rescue Equipment and Procedures\n• Proper Anchoring and Tie Off Techniques \nStudents will receive a certificate upon completing the class \nSeating is LIMITED – Sign up early! \nREGISTER HERE \n 
URL:https://bceva.com/event/24-hour-fall-protection-certification-class-3-of-3-3/
LOCATION:Builders & Contractors Exchange\, 1118 Azalea Garden Rd.\, Norfolk\, VA\, 23502
CATEGORIES:Certification Course,Training
ATTACH;FMTTYPE=image/jpeg:https://bceva.com/wp-content/uploads/2018/10/Fall-Protection.jpg
END:VEVENT
BEGIN:VEVENT
DTSTART;TZID=America/New_York:20251113T080000
DTEND;TZID=America/New_York:20251113T130000
DTSTAMP:20260419T153309
CREATED:20250127T154812Z
LAST-MODIFIED:20251103T185126Z
UID:29021-1763020800-1763038800@bceva.com
SUMMARY:FULL - CPR & FIRST AID
DESCRIPTION:THIS CLASS IS FULL – our next class will be held on December 10th \nMember – $100 per student / Non-Member – $150 per student \n• Adult CPR/AED and First Aid\n• American Heart Association certification valid for two years\n• Training course is fully OSHA compliant \nCPR & First Aid Class includes a two year certification from the American Heart Association \nSeating is LIMITED – Sign up early \nREGSTER HERE
URL:https://bceva.com/event/cpr-first-aid-9/
LOCATION:Builders & Contractors Exchange\, 1118 Azalea Garden Rd.\, Norfolk\, VA\, 23502
CATEGORIES:Certification Course,Training
ATTACH;FMTTYPE=image/jpeg:https://bceva.com/wp-content/uploads/2018/02/first-aid-e1544114779684.jpg
END:VEVENT
BEGIN:VEVENT
DTSTART;TZID=America/New_York:20251120T120000
DTEND;TZID=America/New_York:20251120T130000
DTSTAMP:20260419T153309
CREATED:20250127T155900Z
LAST-MODIFIED:20251030T175504Z
UID:29045-1763640000-1763643600@bceva.com
SUMMARY:LUNCH & LEARN - HOW TO NAVIGATE THE ONLINE PLAN ROOM
DESCRIPTION:Sign up for our FREE class! \nWe will teach you how to get the most from your membership when you use our online Plan Room. \n\nHow to maintain your *membership account (*Membership accounts are maintained by your company administrator)\nHow to set search filters for trade related projects\nHow to track projects – with or without email\nHow to find Low Bids and Contract Awards\nHow to use your personalized Calendar and MUCH MORE!\n\nPLUS Lunch is on us! \nSeating is LIMITED – Sign up early \nREGISTER HERE
URL:https://bceva.com/event/lunch-learn-how-to-navigate-the-online-plan-room-9/
LOCATION:Builders & Contractors Exchange\, 1118 Azalea Garden Rd.\, Norfolk\, VA\, 23502
CATEGORIES:Informational Class
ATTACH;FMTTYPE=image/jpeg:https://bceva.com/wp-content/uploads/2020/01/Sign-e1591381386836.jpg
END:VEVENT
END:VCALENDAR